BEGIN:VCALENDAR
VERSION:2.0
PRODID:-//CTI - Commission des Titres d&#039;Ingénieur - ECPv6.15.17.1//NONSGML v1.0//EN
CALSCALE:GREGORIAN
METHOD:PUBLISH
X-WR-CALNAME:CTI - Commission des Titres d&#039;Ingénieur
X-ORIGINAL-URL:https://www.cti-commission.fr
X-WR-CALDESC:Évènements pour CTI - Commission des Titres d&#039;Ingénieur
REFRESH-INTERVAL;VALUE=DURATION:PT1H
X-Robots-Tag:noindex
X-PUBLISHED-TTL:PT1H
BEGIN:VTIMEZONE
TZID:Europe/Paris
BEGIN:DAYLIGHT
TZOFFSETFROM:+0100
TZOFFSETTO:+0200
TZNAME:CEST
DTSTART:20200329T010000
END:DAYLIGHT
BEGIN:STANDARD
TZOFFSETFROM:+0200
TZOFFSETTO:+0100
TZNAME:CET
DTSTART:20201025T010000
END:STANDARD
BEGIN:DAYLIGHT
TZOFFSETFROM:+0100
TZOFFSETTO:+0200
TZNAME:CEST
DTSTART:20210328T010000
END:DAYLIGHT
BEGIN:STANDARD
TZOFFSETFROM:+0200
TZOFFSETTO:+0100
TZNAME:CET
DTSTART:20211031T010000
END:STANDARD
BEGIN:DAYLIGHT
TZOFFSETFROM:+0100
TZOFFSETTO:+0200
TZNAME:CEST
DTSTART:20220327T010000
END:DAYLIGHT
BEGIN:STANDARD
TZOFFSETFROM:+0200
TZOFFSETTO:+0100
TZNAME:CET
DTSTART:20221030T010000
END:STANDARD
END:VTIMEZONE
BEGIN:VEVENT
DTSTART;VALUE=DATE:20210202
DTEND;VALUE=DATE:20210203
DTSTAMP:20260424T161135
CREATED:20190724T135515Z
LAST-MODIFIED:20191212T151727Z
UID:9464-1612224000-1612310399@www.cti-commission.fr
SUMMARY:Colloque 2021
DESCRIPTION:
URL:https://www.cti-commission.fr/evenement/colloque-2021
CATEGORIES:Événements publics
END:VEVENT
BEGIN:VEVENT
DTSTART;VALUE=DATE:20210203
DTEND;VALUE=DATE:20210204
DTSTAMP:20260424T161135
CREATED:20190724T133758Z
LAST-MODIFIED:20191212T151700Z
UID:9461-1612310400-1612396799@www.cti-commission.fr
SUMMARY:Réunion du Bureau "Janvier" 2021
DESCRIPTION:
URL:https://www.cti-commission.fr/evenement/reunion-du-bureau-janvier-2021
CATEGORIES:Événements internes
END:VEVENT
BEGIN:VEVENT
DTSTART;VALUE=DATE:20210216
DTEND;VALUE=DATE:20210217
DTSTAMP:20260424T161135
CREATED:20190724T140233Z
LAST-MODIFIED:20191212T151741Z
UID:9467-1613433600-1613519999@www.cti-commission.fr
SUMMARY:Commission Février 2021
DESCRIPTION:
URL:https://www.cti-commission.fr/evenement/commission-fevrier-2021
CATEGORIES:Événements internes
END:VEVENT
END:VCALENDAR