BEGIN:VCALENDAR
VERSION:2.0
PRODID:-//CTI - Commission des Titres d&#039;Ingénieur - ECPv6.15.17.1//NONSGML v1.0//EN
CALSCALE:GREGORIAN
METHOD:PUBLISH
X-ORIGINAL-URL:https://www.cti-commission.fr
X-WR-CALDESC:Évènements pour CTI - Commission des Titres d&#039;Ingénieur
REFRESH-INTERVAL;VALUE=DURATION:PT1H
X-Robots-Tag:noindex
X-PUBLISHED-TTL:PT1H
BEGIN:VTIMEZONE
TZID:Europe/Paris
BEGIN:DAYLIGHT
TZOFFSETFROM:+0100
TZOFFSETTO:+0200
TZNAME:CEST
DTSTART:20180325T010000
END:DAYLIGHT
BEGIN:STANDARD
TZOFFSETFROM:+0200
TZOFFSETTO:+0100
TZNAME:CET
DTSTART:20181028T010000
END:STANDARD
BEGIN:DAYLIGHT
TZOFFSETFROM:+0100
TZOFFSETTO:+0200
TZNAME:CEST
DTSTART:20190331T010000
END:DAYLIGHT
BEGIN:STANDARD
TZOFFSETFROM:+0200
TZOFFSETTO:+0100
TZNAME:CET
DTSTART:20191027T010000
END:STANDARD
BEGIN:DAYLIGHT
TZOFFSETFROM:+0100
TZOFFSETTO:+0200
TZNAME:CEST
DTSTART:20200329T010000
END:DAYLIGHT
BEGIN:STANDARD
TZOFFSETFROM:+0200
TZOFFSETTO:+0100
TZNAME:CET
DTSTART:20201025T010000
END:STANDARD
END:VTIMEZONE
BEGIN:VEVENT
DTSTART;VALUE=DATE:20191112
DTEND;VALUE=DATE:20191113
DTSTAMP:20260425T052617
CREATED:20180716T161932Z
LAST-MODIFIED:20180716T161932Z
UID:7679-1573516800-1573603199@www.cti-commission.fr
SUMMARY:Commission Novembre 2019
DESCRIPTION:
URL:https://www.cti-commission.fr/evenement/commission-novembre-2019
CATEGORIES:Événements internes
END:VEVENT
BEGIN:VEVENT
DTSTART;VALUE=DATE:20191113
DTEND;VALUE=DATE:20191114
DTSTAMP:20260425T052617
CREATED:20190725T094557Z
LAST-MODIFIED:20190725T094557Z
UID:9509-1573603200-1573689599@www.cti-commission.fr
SUMMARY:Formation des experts élèves ingénieurs
DESCRIPTION:
URL:https://www.cti-commission.fr/evenement/formation-des-experts-eleves-ingenieurs-2
CATEGORIES:Événements internes + experts
END:VEVENT
BEGIN:VEVENT
DTSTART;VALUE=DATE:20191126
DTEND;VALUE=DATE:20191127
DTSTAMP:20260425T052617
CREATED:20180716T162004Z
LAST-MODIFIED:20180716T162004Z
UID:7682-1574726400-1574812799@www.cti-commission.fr
SUMMARY:Réunion du Bureau Novembre 2019
DESCRIPTION:
URL:https://www.cti-commission.fr/evenement/reunion-du-bureau-novembre-2019
CATEGORIES:Événements internes
END:VEVENT
END:VCALENDAR