BEGIN:VCALENDAR
VERSION:2.0
PRODID:-//CTI - Commission des Titres d&#039;Ingénieur - ECPv6.15.17.1//NONSGML v1.0//EN
CALSCALE:GREGORIAN
METHOD:PUBLISH
X-WR-CALNAME:CTI - Commission des Titres d&#039;Ingénieur
X-ORIGINAL-URL:https://www.cti-commission.fr
X-WR-CALDESC:Évènements pour CTI - Commission des Titres d&#039;Ingénieur
REFRESH-INTERVAL;VALUE=DURATION:PT1H
X-Robots-Tag:noindex
X-PUBLISHED-TTL:PT1H
BEGIN:VTIMEZONE
TZID:Europe/Paris
BEGIN:DAYLIGHT
TZOFFSETFROM:+0100
TZOFFSETTO:+0200
TZNAME:CEST
DTSTART:20180325T010000
END:DAYLIGHT
BEGIN:STANDARD
TZOFFSETFROM:+0200
TZOFFSETTO:+0100
TZNAME:CET
DTSTART:20181028T010000
END:STANDARD
BEGIN:DAYLIGHT
TZOFFSETFROM:+0100
TZOFFSETTO:+0200
TZNAME:CEST
DTSTART:20190331T010000
END:DAYLIGHT
BEGIN:STANDARD
TZOFFSETFROM:+0200
TZOFFSETTO:+0100
TZNAME:CET
DTSTART:20191027T010000
END:STANDARD
BEGIN:DAYLIGHT
TZOFFSETFROM:+0100
TZOFFSETTO:+0200
TZNAME:CEST
DTSTART:20200329T010000
END:DAYLIGHT
BEGIN:STANDARD
TZOFFSETFROM:+0200
TZOFFSETTO:+0100
TZNAME:CET
DTSTART:20201025T010000
END:STANDARD
END:VTIMEZONE
BEGIN:VEVENT
DTSTART;VALUE=DATE:20190402
DTEND;VALUE=DATE:20190403
DTSTAMP:20260425T174212
CREATED:20180330T101307Z
LAST-MODIFIED:20180517T101519Z
UID:7008-1554163200-1554249599@www.cti-commission.fr
SUMMARY:Réunion du Bureau Mars 2019
DESCRIPTION:
URL:https://www.cti-commission.fr/evenement/reunion-du-bureau-mars-2019
CATEGORIES:Événements internes
ATTACH;FMTTYPE=image/png:https://www.cti-commission.fr/wp-content/uploads/2018/01/nuage_orange.png
END:VEVENT
BEGIN:VEVENT
DTSTART;VALUE=DATE:20190416
DTEND;VALUE=DATE:20190417
DTSTAMP:20260425T174212
CREATED:20180330T101325Z
LAST-MODIFIED:20180517T101519Z
UID:7011-1555372800-1555459199@www.cti-commission.fr
SUMMARY:Commission Avril 2019
DESCRIPTION:
URL:https://www.cti-commission.fr/evenement/commission-avril-2019
CATEGORIES:Événements internes
ATTACH;FMTTYPE=image/png:https://www.cti-commission.fr/wp-content/uploads/2018/01/nuage_orange.png
END:VEVENT
BEGIN:VEVENT
DTSTART;VALUE=DATE:20190417
DTEND;VALUE=DATE:20190418
DTSTAMP:20260425T174212
CREATED:20180330T101340Z
LAST-MODIFIED:20180517T101519Z
UID:7014-1555459200-1555545599@www.cti-commission.fr
SUMMARY:Commission Avril 2019
DESCRIPTION:
URL:https://www.cti-commission.fr/evenement/commission-avril-2019-2
CATEGORIES:Événements internes
ATTACH;FMTTYPE=image/png:https://www.cti-commission.fr/wp-content/uploads/2018/01/nuage_orange.png
END:VEVENT
BEGIN:VEVENT
DTSTART;VALUE=DATE:20190430
DTEND;VALUE=DATE:20190501
DTSTAMP:20260425T174212
CREATED:20180330T101357Z
LAST-MODIFIED:20180517T101519Z
UID:7017-1556582400-1556668799@www.cti-commission.fr
SUMMARY:Réunion du Bureau Avril 2019
DESCRIPTION:
URL:https://www.cti-commission.fr/evenement/reunion-du-bureau-avril-2019
CATEGORIES:Événements internes
ATTACH;FMTTYPE=image/png:https://www.cti-commission.fr/wp-content/uploads/2018/01/nuage_orange.png
END:VEVENT
END:VCALENDAR