BEGIN:VCALENDAR
VERSION:2.0
PRODID:-//CTI - Commission des Titres d&#039;Ingénieur - ECPv6.15.17.1//NONSGML v1.0//EN
CALSCALE:GREGORIAN
METHOD:PUBLISH
X-ORIGINAL-URL:https://www.cti-commission.fr
X-WR-CALDESC:Évènements pour CTI - Commission des Titres d&#039;Ingénieur
REFRESH-INTERVAL;VALUE=DURATION:PT1H
X-Robots-Tag:noindex
X-PUBLISHED-TTL:PT1H
BEGIN:VTIMEZONE
TZID:Europe/Paris
BEGIN:DAYLIGHT
TZOFFSETFROM:+0100
TZOFFSETTO:+0200
TZNAME:CEST
DTSTART:20180325T010000
END:DAYLIGHT
BEGIN:STANDARD
TZOFFSETFROM:+0200
TZOFFSETTO:+0100
TZNAME:CET
DTSTART:20181028T010000
END:STANDARD
BEGIN:DAYLIGHT
TZOFFSETFROM:+0100
TZOFFSETTO:+0200
TZNAME:CEST
DTSTART:20190331T010000
END:DAYLIGHT
BEGIN:STANDARD
TZOFFSETFROM:+0200
TZOFFSETTO:+0100
TZNAME:CET
DTSTART:20191027T010000
END:STANDARD
BEGIN:DAYLIGHT
TZOFFSETFROM:+0100
TZOFFSETTO:+0200
TZNAME:CEST
DTSTART:20200329T010000
END:DAYLIGHT
BEGIN:STANDARD
TZOFFSETFROM:+0200
TZOFFSETTO:+0100
TZNAME:CET
DTSTART:20201025T010000
END:STANDARD
END:VTIMEZONE
BEGIN:VEVENT
DTSTART;VALUE=DATE:20190211
DTEND;VALUE=DATE:20190212
DTSTAMP:20260425T204341
CREATED:20181025T124522Z
LAST-MODIFIED:20181025T124612Z
UID:8205-1549843200-1549929599@www.cti-commission.fr
SUMMARY:Atelier international CTI 2019
DESCRIPTION:
URL:https://www.cti-commission.fr/evenement/atelier-international-cti-2019
LOCATION:Saint-Etienne
CATEGORIES:Événements publics
END:VEVENT
BEGIN:VEVENT
DTSTART;VALUE=DATE:20190212
DTEND;VALUE=DATE:20190213
DTSTAMP:20260425T204341
CREATED:20180330T101119Z
LAST-MODIFIED:20180523T083641Z
UID:6995-1549929600-1550015999@www.cti-commission.fr
SUMMARY:Colloque CTI 2019
DESCRIPTION:
URL:https://www.cti-commission.fr/evenement/colloque-cti-2019
LOCATION:Saint-Etienne
CATEGORIES:Événements publics
ATTACH;FMTTYPE=image/png:https://www.cti-commission.fr/wp-content/uploads/2018/01/nuage_vert.png
END:VEVENT
BEGIN:VEVENT
DTSTART;VALUE=DATE:20190213
DTEND;VALUE=DATE:20190214
DTSTAMP:20260425T204341
CREATED:20180330T101203Z
LAST-MODIFIED:20180517T101519Z
UID:6999-1550016000-1550102399@www.cti-commission.fr
SUMMARY:Commission Février 2019
DESCRIPTION:
URL:https://www.cti-commission.fr/evenement/commission-fevrier-2019
CATEGORIES:Événements internes
ATTACH;FMTTYPE=image/png:https://www.cti-commission.fr/wp-content/uploads/2018/01/nuage_orange.png
END:VEVENT
BEGIN:VEVENT
DTSTART;VALUE=DATE:20190226
DTEND;VALUE=DATE:20190227
DTSTAMP:20260425T204341
CREATED:20180330T101225Z
LAST-MODIFIED:20180517T101519Z
UID:7002-1551139200-1551225599@www.cti-commission.fr
SUMMARY:Réunion du Bureau Février 2019
DESCRIPTION:
URL:https://www.cti-commission.fr/evenement/reunion-du-bureau-fevrier-2019
CATEGORIES:Événements internes
ATTACH;FMTTYPE=image/png:https://www.cti-commission.fr/wp-content/uploads/2018/01/nuage_orange.png
END:VEVENT
END:VCALENDAR