BEGIN:VCALENDAR
VERSION:2.0
PRODID:-//CTI - Commission des Titres d&#039;Ingénieur - ECPv6.15.17.1//NONSGML v1.0//EN
CALSCALE:GREGORIAN
METHOD:PUBLISH
X-WR-CALNAME:CTI - Commission des Titres d&#039;Ingénieur
X-ORIGINAL-URL:https://www.cti-commission.fr
X-WR-CALDESC:Évènements pour CTI - Commission des Titres d&#039;Ingénieur
REFRESH-INTERVAL;VALUE=DURATION:PT1H
X-Robots-Tag:noindex
X-PUBLISHED-TTL:PT1H
BEGIN:VTIMEZONE
TZID:Europe/Paris
BEGIN:DAYLIGHT
TZOFFSETFROM:+0100
TZOFFSETTO:+0200
TZNAME:CEST
DTSTART:20180325T010000
END:DAYLIGHT
BEGIN:STANDARD
TZOFFSETFROM:+0200
TZOFFSETTO:+0100
TZNAME:CET
DTSTART:20181028T010000
END:STANDARD
BEGIN:DAYLIGHT
TZOFFSETFROM:+0100
TZOFFSETTO:+0200
TZNAME:CEST
DTSTART:20190331T010000
END:DAYLIGHT
BEGIN:STANDARD
TZOFFSETFROM:+0200
TZOFFSETTO:+0100
TZNAME:CET
DTSTART:20191027T010000
END:STANDARD
BEGIN:DAYLIGHT
TZOFFSETFROM:+0100
TZOFFSETTO:+0200
TZNAME:CEST
DTSTART:20200329T010000
END:DAYLIGHT
BEGIN:STANDARD
TZOFFSETFROM:+0200
TZOFFSETTO:+0100
TZNAME:CET
DTSTART:20201025T010000
END:STANDARD
END:VTIMEZONE
BEGIN:VEVENT
DTSTART;VALUE=DATE:20190115
DTEND;VALUE=DATE:20190116
DTSTAMP:20260425T221408
CREATED:20180330T100955Z
LAST-MODIFIED:20180517T101519Z
UID:6986-1547510400-1547596799@www.cti-commission.fr
SUMMARY:Commission Janvier 2019
DESCRIPTION:
URL:https://www.cti-commission.fr/evenement/commission-janvier-2019
CATEGORIES:Événements internes
ATTACH;FMTTYPE=image/png:https://www.cti-commission.fr/wp-content/uploads/2018/01/nuage_orange.png
END:VEVENT
BEGIN:VEVENT
DTSTART;VALUE=DATE:20190116
DTEND;VALUE=DATE:20190117
DTSTAMP:20260425T221408
CREATED:20180330T101011Z
LAST-MODIFIED:20180517T101519Z
UID:6989-1547596800-1547683199@www.cti-commission.fr
SUMMARY:Commission Janvier 2019
DESCRIPTION:
URL:https://www.cti-commission.fr/evenement/commission-janvier-2019-2
CATEGORIES:Événements internes
ATTACH;FMTTYPE=image/png:https://www.cti-commission.fr/wp-content/uploads/2018/01/nuage_orange.png
END:VEVENT
BEGIN:VEVENT
DTSTART;VALUE=DATE:20190129
DTEND;VALUE=DATE:20190130
DTSTAMP:20260425T221408
CREATED:20180330T101046Z
LAST-MODIFIED:20181025T124753Z
UID:6992-1548720000-1548806399@www.cti-commission.fr
SUMMARY:Réunion du Bureau Janvier 2019
DESCRIPTION:
URL:https://www.cti-commission.fr/evenement/commission-janvier-2019-3
CATEGORIES:Événements internes
ATTACH;FMTTYPE=image/png:https://www.cti-commission.fr/wp-content/uploads/2018/01/nuage_orange.png
END:VEVENT
END:VCALENDAR