BEGIN:VCALENDAR
VERSION:2.0
PRODID:-//CTI - Commission des Titres d&#039;Ingénieur - ECPv6.15.17.1//NONSGML v1.0//EN
CALSCALE:GREGORIAN
METHOD:PUBLISH
X-WR-CALNAME:CTI - Commission des Titres d&#039;Ingénieur
X-ORIGINAL-URL:https://www.cti-commission.fr
X-WR-CALDESC:Évènements pour CTI - Commission des Titres d&#039;Ingénieur
REFRESH-INTERVAL;VALUE=DURATION:PT1H
X-Robots-Tag:noindex
X-PUBLISHED-TTL:PT1H
BEGIN:VTIMEZONE
TZID:Europe/Paris
BEGIN:DAYLIGHT
TZOFFSETFROM:+0100
TZOFFSETTO:+0200
TZNAME:CEST
DTSTART:20170326T010000
END:DAYLIGHT
BEGIN:STANDARD
TZOFFSETFROM:+0200
TZOFFSETTO:+0100
TZNAME:CET
DTSTART:20171029T010000
END:STANDARD
BEGIN:DAYLIGHT
TZOFFSETFROM:+0100
TZOFFSETTO:+0200
TZNAME:CEST
DTSTART:20180325T010000
END:DAYLIGHT
BEGIN:STANDARD
TZOFFSETFROM:+0200
TZOFFSETTO:+0100
TZNAME:CET
DTSTART:20181028T010000
END:STANDARD
BEGIN:DAYLIGHT
TZOFFSETFROM:+0100
TZOFFSETTO:+0200
TZNAME:CEST
DTSTART:20190331T010000
END:DAYLIGHT
BEGIN:STANDARD
TZOFFSETFROM:+0200
TZOFFSETTO:+0100
TZNAME:CET
DTSTART:20191027T010000
END:STANDARD
END:VTIMEZONE
BEGIN:VEVENT
DTSTART;VALUE=DATE:20180828
DTEND;VALUE=DATE:20180829
DTSTAMP:20260426T053653
CREATED:20180102T151330Z
LAST-MODIFIED:20180516T141212Z
UID:6414-1535414400-1535500799@www.cti-commission.fr
SUMMARY:Réunion du Bureau Août 2018
DESCRIPTION:
URL:https://www.cti-commission.fr/evenement/reunion-du-bureau-aout-2018
CATEGORIES:Événements internes
ATTACH;FMTTYPE=image/png:https://www.cti-commission.fr/wp-content/uploads/2018/01/nuage_orange.png
END:VEVENT
END:VCALENDAR